Package: flowClust Version: 3.48.0 Command: /Library/Frameworks/R.framework/Resources/bin/R CMD build --keep-empty-dirs --no-resave-data flowClust StartedAt: 2025-11-17 22:29:36 -0500 (Mon, 17 Nov 2025) EndedAt: 2025-11-17 22:34:18 -0500 (Mon, 17 Nov 2025) EllapsedTime: 281.3 seconds RetCode: 0 Status: OK PackageFile: flowClust_3.48.0.tar.gz PackageFileSize: 1.765 MiB