Package: flowClust Version: 3.48.0 Command: /Library/Frameworks/R.framework/Resources/bin/R CMD INSTALL flowClust StartedAt: 2025-11-03 15:20:41 -0500 (Mon, 03 Nov 2025) EndedAt: 2025-11-03 15:24:34 -0500 (Mon, 03 Nov 2025) EllapsedTime: 233.2 seconds RetCode: 0 Status: OK