Package: flowClust Version: 3.48.0 Command: /Library/Frameworks/R.framework/Resources/bin/R CMD build --keep-empty-dirs --no-resave-data flowClust StartedAt: 2025-11-03 17:03:06 -0500 (Mon, 03 Nov 2025) EndedAt: 2025-11-03 17:06:48 -0500 (Mon, 03 Nov 2025) EllapsedTime: 221.7 seconds RetCode: 0 Status: OK PackageFile: flowClust_3.48.0.tar.gz PackageFileSize: 1.765 MiB