Package: flowClust Version: 3.48.0 Command: /Library/Frameworks/R.framework/Resources/bin/R CMD INSTALL flowClust StartedAt: 2025-11-10 15:10:23 -0500 (Mon, 10 Nov 2025) EndedAt: 2025-11-10 15:11:17 -0500 (Mon, 10 Nov 2025) EllapsedTime: 53.5 seconds RetCode: 0 Status: OK