Package: flowClust Version: 3.48.0 Command: rm -rf flowClust.buildbin-libdir && mkdir flowClust.buildbin-libdir && /Users/biocbuild/BBS/utils/build-universal.sh flowClust_3.48.0.tar.gz /Library/Frameworks/R.framework/Resources/bin/R flowClust.buildbin-libdir StartedAt: 2025-11-10 23:20:13 -0500 (Mon, 10 Nov 2025) EndedAt: 2025-11-10 23:21:28 -0500 (Mon, 10 Nov 2025) EllapsedTime: 74.4 seconds RetCode: 0 Status: OK PackageFile: flowClust_3.48.0.tgz PackageFileSize: 1.364 MiB