Package: flowClust Version: 3.48.0 Command: /Library/Frameworks/R.framework/Resources/bin/R CMD INSTALL flowClust StartedAt: 2025-11-17 18:00:30 -0500 (Mon, 17 Nov 2025) EndedAt: 2025-11-17 18:01:25 -0500 (Mon, 17 Nov 2025) EllapsedTime: 55.9 seconds RetCode: 0 Status: OK