Package: flowCHIC Version: 1.42.0 Command: chmod a+r flowCHIC -R && E:\biocbuild\bbs-3.21-bioc\R\bin\R.exe CMD build --keep-empty-dirs --no-resave-data flowCHIC StartedAt: 2025-08-14 19:07:29 -0400 (Thu, 14 Aug 2025) EndedAt: 2025-08-14 19:08:10 -0400 (Thu, 14 Aug 2025) EllapsedTime: 40.7 seconds RetCode: 0 Status: OK PackageFile: flowCHIC_1.42.0.tar.gz PackageFileSize: 3.068 MiB