Package: flowCHIC Version: 1.42.0 Command: rm -rf flowCHIC.buildbin-libdir && mkdir flowCHIC.buildbin-libdir && E:\biocbuild\bbs-3.21-bioc\R\bin\R.exe CMD INSTALL --build --library=flowCHIC.buildbin-libdir flowCHIC_1.42.0.tar.gz StartedAt: 2025-08-15 09:17:59 -0400 (Fri, 15 Aug 2025) EndedAt: 2025-08-15 09:18:31 -0400 (Fri, 15 Aug 2025) EllapsedTime: 32.2 seconds RetCode: 0 Status: OK PackageFile: flowCHIC_1.42.0.zip PackageFileSize: 3.108 MiB