Package: flowBin Version: 1.44.0 Command: chmod a+r flowBin -R && E:\biocbuild\bbs-3.21-bioc\R\bin\R.exe CMD build --keep-empty-dirs --no-resave-data flowBin StartedAt: 2025-08-14 19:07:22 -0400 (Thu, 14 Aug 2025) EndedAt: 2025-08-14 19:07:56 -0400 (Thu, 14 Aug 2025) EllapsedTime: 34.5 seconds RetCode: 0 Status: OK PackageFile: flowBin_1.44.0.tar.gz PackageFileSize: 483.6 KiB