Package: flowBin Version: 1.44.0 Command: /Library/Frameworks/R.framework/Resources/bin/R CMD build --keep-empty-dirs --no-resave-data flowBin StartedAt: 2025-09-29 19:04:47 -0400 (Mon, 29 Sep 2025) EndedAt: 2025-09-29 19:05:50 -0400 (Mon, 29 Sep 2025) EllapsedTime: 62.5 seconds RetCode: 0 Status: OK PackageFile: flowBin_1.44.0.tar.gz PackageFileSize: 575.1 KiB