Package: flowBin Version: 1.44.0 Command: /Library/Frameworks/R.framework/Resources/bin/R CMD build --keep-empty-dirs --no-resave-data flowBin StartedAt: 2025-04-21 16:48:54 -0400 (Mon, 21 Apr 2025) EndedAt: 2025-04-21 16:49:26 -0400 (Mon, 21 Apr 2025) EllapsedTime: 32.0 seconds RetCode: 0 Status: OK PackageFile: flowBin_1.44.0.tar.gz PackageFileSize: 574.5 KiB