Package: flowBin Version: 1.44.0 Command: /Library/Frameworks/R.framework/Resources/bin/R CMD check --install=check:flowBin.install-out.txt --library=/Library/Frameworks/R.framework/Resources/library --no-vignettes --timings flowBin_1.44.0.tar.gz StartedAt: 2025-09-30 21:39:16 -0400 (Tue, 30 Sep 2025) EndedAt: 2025-09-30 21:40:50 -0400 (Tue, 30 Sep 2025) EllapsedTime: 93.8 seconds RetCode: 0 Status: OK CheckDir: flowBin.Rcheck Warnings: 0