Package: flowBeads Version: 1.46.0 Command: /home/biocbuild/bbs-3.21-bioc/R/bin/R CMD check --install=check:flowBeads.install-out.txt --library=/home/biocbuild/bbs-3.21-bioc/R/site-library --timings flowBeads_1.46.0.tar.gz StartedAt: 2025-10-01 23:17:21 -0400 (Wed, 01 Oct 2025) EndedAt: 2025-10-01 23:18:22 -0400 (Wed, 01 Oct 2025) EllapsedTime: 61.0 seconds RetCode: 0 Status: WARNINGS CheckDir: flowBeads.Rcheck Warnings: 2