Package: flowBeads Version: 1.46.0 Command: rm -rf flowBeads.buildbin-libdir && mkdir flowBeads.buildbin-libdir && /Users/biocbuild/BBS/utils/build-universal.sh flowBeads_1.46.0.tar.gz /Library/Frameworks/R.framework/Resources/bin/R flowBeads.buildbin-libdir StartedAt: 2025-04-22 00:45:37 -0400 (Tue, 22 Apr 2025) EndedAt: 2025-04-22 00:45:53 -0400 (Tue, 22 Apr 2025) EllapsedTime: 16.2 seconds RetCode: 0 Status: OK PackageFile: flowBeads_1.46.0.tgz PackageFileSize: 1.224 MiB