Package: flowBeads Version: 1.48.0 Command: /Library/Frameworks/R.framework/Resources/bin/R CMD INSTALL flowBeads StartedAt: 2025-11-17 18:00:36 -0500 (Mon, 17 Nov 2025) EndedAt: 2025-11-17 18:00:40 -0500 (Mon, 17 Nov 2025) EllapsedTime: 4.2 seconds RetCode: 0 Status: OK