Package: flowBeads Version: 1.48.0 Command: rm -rf flowBeads.buildbin-libdir && mkdir flowBeads.buildbin-libdir && /Users/biocbuild/BBS/utils/build-universal.sh flowBeads_1.48.0.tar.gz /Library/Frameworks/R.framework/Resources/bin/R flowBeads.buildbin-libdir StartedAt: 2025-11-18 15:33:36 -0500 (Tue, 18 Nov 2025) EndedAt: 2025-11-18 15:33:41 -0500 (Tue, 18 Nov 2025) EllapsedTime: 5.1 seconds RetCode: 0 Status: OK PackageFile: flowBeads_1.48.0.tgz PackageFileSize: 1.227 MiB