Package: flagme Version: 1.66.0 Command: /home/biocbuild/R/R/bin/R CMD check --install=check:flagme.install-out.txt --library=/home/biocbuild/R/R/site-library --no-vignettes --timings flagme_1.66.0.tar.gz StartedAt: 2025-11-21 10:43:15 -0000 (Fri, 21 Nov 2025) EndedAt: 2025-11-21 11:00:07 -0000 (Fri, 21 Nov 2025) EllapsedTime: 1011.9 seconds RetCode: 0 Status: WARNINGS CheckDir: flagme.Rcheck Warnings: 2