Package: flagme Version: 1.66.0 Command: /home/biocbuild/R/R/bin/R CMD build --keep-empty-dirs --no-resave-data flagme StartedAt: 2025-11-21 02:26:21 -0000 (Fri, 21 Nov 2025) EndedAt: 2025-11-21 02:30:28 -0000 (Fri, 21 Nov 2025) EllapsedTime: 247.3 seconds RetCode: 0 Status: OK PackageFile: flagme_1.66.0.tar.gz PackageFileSize: 702.3 KiB