Package: flagme Version: 1.66.0 Command: /home/biocbuild/bbs-3.22-bioc/R/bin/R CMD INSTALL flagme StartedAt: 2025-11-09 15:46:01 -0500 (Sun, 09 Nov 2025) EndedAt: 2025-11-09 15:46:55 -0500 (Sun, 09 Nov 2025) EllapsedTime: 54.3 seconds RetCode: 0 Status: OK