Package: fishpond Version: 2.15.0 Command: /home/biocbuild/R/R/bin/R CMD build --keep-empty-dirs --no-resave-data fishpond StartedAt: 2025-10-20 23:46:57 -0000 (Mon, 20 Oct 2025) EndedAt: 2025-10-20 23:52:24 -0000 (Mon, 20 Oct 2025) EllapsedTime: 327.1 seconds RetCode: 0 Status: OK PackageFile: fishpond_2.15.0.tar.gz PackageFileSize: 2.463 MiB