Package: fishpond Version: 2.15.0 Command: chmod a+r fishpond -R && F:\biocbuild\bbs-3.22-bioc\R\bin\R.exe CMD build --keep-empty-dirs --no-resave-data fishpond StartedAt: 2025-08-14 20:11:20 -0400 (Thu, 14 Aug 2025) EndedAt: 2025-08-14 20:19:16 -0400 (Thu, 14 Aug 2025) EllapsedTime: 476.1 seconds RetCode: 0 Status: OK PackageFile: fishpond_2.15.0.tar.gz PackageFileSize: 1.847 MiB