Package: fishpond Version: 2.16.0 Command: /home/biocbuild/bbs-3.22-bioc/R/bin/R CMD build --keep-empty-dirs --no-resave-data --md5 fishpond StartedAt: 2025-10-31 17:48:50 -0400 (Fri, 31 Oct 2025) EndedAt: 2025-10-31 17:52:39 -0400 (Fri, 31 Oct 2025) EllapsedTime: 229.3 seconds RetCode: 0 Status: OK PackageFile: fishpond_2.16.0.tar.gz PackageFileSize: 3.917 MiB