Package: fishpond Version: 2.14.0 Command: /Library/Frameworks/R.framework/Resources/bin/R CMD check --install=check:fishpond.install-out.txt --library=/Library/Frameworks/R.framework/Resources/library --no-vignettes --timings fishpond_2.14.0.tar.gz StartedAt: 2025-10-14 03:50:32 -0400 (Tue, 14 Oct 2025) EndedAt: 2025-10-14 03:58:56 -0400 (Tue, 14 Oct 2025) EllapsedTime: 504.7 seconds RetCode: 0 Status: OK CheckDir: fishpond.Rcheck Warnings: 0