Package: fishpond Version: 2.16.0 Command: /Library/Frameworks/R.framework/Resources/bin/R CMD check --install=check:fishpond.install-out.txt --library=/Library/Frameworks/R.framework/Resources/library --no-vignettes --timings fishpond_2.16.0.tar.gz StartedAt: 2025-11-03 21:15:33 -0500 (Mon, 03 Nov 2025) EndedAt: 2025-11-03 21:20:06 -0500 (Mon, 03 Nov 2025) EllapsedTime: 273.1 seconds RetCode: 0 Status: OK CheckDir: fishpond.Rcheck Warnings: 0