Package: fishpond Version: 2.14.0 Command: /home/biocbuild/R/R/bin/R CMD INSTALL fishpond StartedAt: 2025-10-13 20:34:58 -0000 (Mon, 13 Oct 2025) EndedAt: 2025-10-13 20:35:31 -0000 (Mon, 13 Oct 2025) EllapsedTime: 33.0 seconds RetCode: 0 Status: OK