Package: fgsea Version: 1.36.0 Command: /home/biocbuild/bbs-3.22-bioc/R/bin/R CMD INSTALL fgsea StartedAt: 2025-11-17 17:02:55 -0500 (Mon, 17 Nov 2025) EndedAt: 2025-11-17 17:03:32 -0500 (Mon, 17 Nov 2025) EllapsedTime: 37.4 seconds RetCode: 0 Status: OK