Package: fgsea Version: 1.36.0 Command: /home/biocbuild/bbs-3.22-bioc/R/bin/R CMD check --install=check:fgsea.install-out.txt --library=/home/biocbuild/bbs-3.22-bioc/R/site-library --timings fgsea_1.36.0.tar.gz StartedAt: 2025-11-18 03:57:00 -0500 (Tue, 18 Nov 2025) EndedAt: 2025-11-18 04:13:22 -0500 (Tue, 18 Nov 2025) EllapsedTime: 981.8 seconds RetCode: 1 Status: ERROR CheckDir: fgsea.Rcheck Warnings: NA