Package: fgsea Version: 1.36.0 Command: /Library/Frameworks/R.framework/Resources/bin/R CMD check --install=check:fgsea.install-out.txt --library=/Library/Frameworks/R.framework/Resources/library --no-vignettes --timings fgsea_1.36.0.tar.gz StartedAt: 2025-11-06 19:46:08 -0500 (Thu, 06 Nov 2025) EndedAt: 2025-11-06 19:47:35 -0500 (Thu, 06 Nov 2025) EllapsedTime: 87.1 seconds RetCode: 0 Status: OK CheckDir: fgsea.Rcheck Warnings: 0