Package: fgsea Version: 1.36.0 Command: /Library/Frameworks/R.framework/Resources/bin/R CMD build --keep-empty-dirs --no-resave-data fgsea StartedAt: 2025-11-09 16:24:30 -0500 (Sun, 09 Nov 2025) EndedAt: 2025-11-09 16:28:29 -0500 (Sun, 09 Nov 2025) EllapsedTime: 239.7 seconds RetCode: 0 Status: OK PackageFile: fgsea_1.36.0.tar.gz PackageFileSize: 7.155 MiB