Back to Multiple platform build/check report for BioC 3.22:   simplified   long
ABCDE[F]GHIJKLMNOPQRSTUVWXYZ

This page was generated on 2025-11-11 12:02 -0500 (Tue, 11 Nov 2025).

HostnameOSArch (*)R versionInstalled pkgs
nebbiolo2Linux (Ubuntu 24.04.3 LTS)x86_644.5.1 Patched (2025-08-23 r88802) -- "Great Square Root" 4902
kjohnson3macOS 13.7.7 Venturaarm644.5.1 Patched (2025-09-10 r88807) -- "Great Square Root" 4638
Click on any hostname to see more info about the system (e.g. compilers)      (*) as reported by 'uname -p', except on Windows and Mac OS X

All results for package fgsea


To the developers/maintainers of the fgsea package:
- Allow up to 24 hours (and sometimes 48 hours) for your latest push to git@git.bioconductor.org:packages/fgsea.git to reflect on this report. See Troubleshooting Build Report for more information.
- Use the following Renviron settings to reproduce errors and warnings.
- If 'R CMD check' started to fail recently on the Linux builder(s) over a missing dependency, add the missing dependency to 'Suggests:' in your DESCRIPTION file. See Renviron.bioc for more information.

raw results

Package 735/2361HostnameOS / ArchINSTALLBUILDCHECKBUILD BIN
fgsea 1.36.0  (landing page)
Alexey Sergushichev
Snapshot Date: 2025-11-10 13:45 -0500 (Mon, 10 Nov 2025)
git_url: https://git.bioconductor.org/packages/fgsea
git_branch: RELEASE_3_22
git_last_commit: 1adab01
git_last_commit_date: 2025-10-29 10:32:59 -0500 (Wed, 29 Oct 2025)
nebbiolo2Linux (Ubuntu 24.04.3 LTS) / x86_64  OK    OK    OK  UNNEEDED, same version is already published
kjohnson3macOS 13.7.7 Ventura / arm64  OK    OK    OK    OK  UNNEEDED, same version is already published



Results for Bioconductor software packages that depend directly on package fgsea

QUICK STATSOS / ArchINSTALLBUILDCHECKBUILD BIN
nebbiolo2Linux (Ubuntu 24.04.3 LTS) / x86_64
0032
0131
01327
kjohnson3macOS 13.7.7 Ventura / arm64
0032
0131
01327
0031
Package 1/32HostnameOS / ArchINSTALLBUILDCHECKBUILD BIN
BioNAR 1.12.0  (landing page)
Anatoly Sorokin
git_last_commit: a683d4b
git_last_commit_date: 2025-10-29 11:19:29 -0500
nebbiolo2Linux (Ubuntu 24.04.3 LTS) / x86_64  OK    OK    ERROR  
kjohnson3macOS 13.7.7 Ventura / arm64  OK    OK    ERROR    OK  
Package 2/32HostnameOS / ArchINSTALLBUILDCHECKBUILD BIN
CelliD 1.18.0  (landing page)
Akira Cortal
git_last_commit: 097905e
git_last_commit_date: 2025-10-29 11:07:10 -0500
nebbiolo2Linux (Ubuntu 24.04.3 LTS) / x86_64  OK    OK    WARNINGS  UNNEEDED, same version is already published
kjohnson3macOS 13.7.7 Ventura / arm64  OK    OK    WARNINGS    OK  UNNEEDED, same version is already published
Package 3/32HostnameOS / ArchINSTALLBUILDCHECKBUILD BIN
CEMiTool 1.34.0  (landing page)
Helder Nakaya
git_last_commit: a56e804
git_last_commit_date: 2025-10-29 10:40:00 -0500
nebbiolo2Linux (Ubuntu 24.04.3 LTS) / x86_64  OK    OK    OK  UNNEEDED, same version is already published
kjohnson3macOS 13.7.7 Ventura / arm64  OK    OK    OK    OK  UNNEEDED, same version is already published
Package 4/32HostnameOS / ArchINSTALLBUILDCHECKBUILD BIN
clustifyr 1.22.0  (landing page)
Rui Fu
git_last_commit: 9338c89
git_last_commit_date: 2025-10-29 10:56:51 -0500
nebbiolo2Linux (Ubuntu 24.04.3 LTS) / x86_64  OK    OK    OK  UNNEEDED, same version is already published
kjohnson3macOS 13.7.7 Ventura / arm64  OK    OK    OK    OK  UNNEEDED, same version is already published
Package 5/32HostnameOS / ArchINSTALLBUILDCHECKBUILD BIN
CoGAPS 3.30.0  (landing page)
Elana J. Fertig
git_last_commit: 88653e4
git_last_commit_date: 2025-10-29 10:05:26 -0500
nebbiolo2Linux (Ubuntu 24.04.3 LTS) / x86_64  OK    OK    OK  UNNEEDED, same version is already published
kjohnson3macOS 13.7.7 Ventura / arm64  OK    OK    OK    OK  UNNEEDED, same version is already published
Package 6/32HostnameOS / ArchINSTALLBUILDCHECKBUILD BIN
cTRAP 1.28.0  (landing page)
Nuno Saraiva-Agostinho
git_last_commit: 216e3fc
git_last_commit_date: 2025-10-29 10:48:28 -0500
nebbiolo2Linux (Ubuntu 24.04.3 LTS) / x86_64  OK    OK    OK  UNNEEDED, same version is already published
kjohnson3macOS 13.7.7 Ventura / arm64  OK    OK    OK    OK  UNNEEDED, same version is already published
Package 7/32HostnameOS / ArchINSTALLBUILDCHECKBUILD BIN
DeepTarget 1.4.0  (landing page)
Trinh Nguyen
git_last_commit: 5b8241e
git_last_commit_date: 2025-10-29 11:30:45 -0500
nebbiolo2Linux (Ubuntu 24.04.3 LTS) / x86_64  OK    OK    OK  UNNEEDED, same version is already published
kjohnson3macOS 13.7.7 Ventura / arm64  OK    OK    OK    OK  UNNEEDED, same version is already published
Package 8/32HostnameOS / ArchINSTALLBUILDCHECKBUILD BIN
DOSE 4.4.0  (landing page)
Guangchuang Yu
git_last_commit: 963047a
git_last_commit_date: 2025-10-29 10:07:51 -0500
nebbiolo2Linux (Ubuntu 24.04.3 LTS) / x86_64  OK    OK    OK  UNNEEDED, same version is already published
kjohnson3macOS 13.7.7 Ventura / arm64  OK    OK    OK    OK  UNNEEDED, same version is already published
Package 9/32HostnameOS / ArchINSTALLBUILDCHECKBUILD BIN
EventPointer 3.18.0  (landing page)
Juan A. Ferrer-Bonsoms
git_last_commit: 816a09d
git_last_commit_date: 2025-10-29 10:37:08 -0500
nebbiolo2Linux (Ubuntu 24.04.3 LTS) / x86_64  OK    OK    OK  UNNEEDED, same version is already published
kjohnson3macOS 13.7.7 Ventura / arm64  OK    OK    OK    OK  UNNEEDED, same version is already published
Package 10/32HostnameOS / ArchINSTALLBUILDCHECKBUILD BIN
fobitools 1.18.0  (landing page)
Pol Castellano-Escuder
git_last_commit: 03ca5ea
git_last_commit_date: 2025-10-29 11:06:08 -0500
nebbiolo2Linux (Ubuntu 24.04.3 LTS) / x86_64  OK    OK    OK  UNNEEDED, same version is already published
kjohnson3macOS 13.7.7 Ventura / arm64  OK    OK    OK    OK  UNNEEDED, same version is already published
Package 11/32HostnameOS / ArchINSTALLBUILDCHECKBUILD BIN
gsean 1.30.0  (landing page)
Dongmin Jung
git_last_commit: cb6d153
git_last_commit_date: 2025-10-29 10:43:04 -0500
nebbiolo2Linux (Ubuntu 24.04.3 LTS) / x86_64  OK    OK    OK  UNNEEDED, same version is already published
kjohnson3macOS 13.7.7 Ventura / arm64  OK    OK    OK    OK  UNNEEDED, same version is already published
Package 12/32HostnameOS / ArchINSTALLBUILDCHECKBUILD BIN
lipidr 2.24.0  (landing page)
Ahmed Mohamed
git_last_commit: 2e5e4b4
git_last_commit_date: 2025-10-29 10:51:46 -0500
nebbiolo2Linux (Ubuntu 24.04.3 LTS) / x86_64  OK    OK    OK  UNNEEDED, same version is already published
kjohnson3macOS 13.7.7 Ventura / arm64  OK    OK    OK    OK  UNNEEDED, same version is already published
Package 13/32HostnameOS / ArchINSTALLBUILDCHECKBUILD BIN
markeR 1.0.0  (landing page)
Rita Martins-Silva
git_last_commit: defebad
git_last_commit_date: 2025-10-29 11:38:06 -0500
nebbiolo2Linux (Ubuntu 24.04.3 LTS) / x86_64  OK    OK    OK  UNNEEDED, same version is already published
kjohnson3macOS 13.7.7 Ventura / arm64  OK    OK    OK    OK  UNNEEDED, same version is already published
Package 14/32HostnameOS / ArchINSTALLBUILDCHECKBUILD BIN
mCSEA 1.30.0  (landing page)
Jordi Martorell-Marugán
git_last_commit: 3144485
git_last_commit_date: 2025-10-29 10:42:49 -0500
nebbiolo2Linux (Ubuntu 24.04.3 LTS) / x86_64  OK    ERROR  skipped
kjohnson3macOS 13.7.7 Ventura / arm64  OK    ERROR  skippedskipped
Package 15/32HostnameOS / ArchINSTALLBUILDCHECKBUILD BIN
metapone 1.16.0  (landing page)
Tianwei Yu
git_last_commit: 1bdf6f5
git_last_commit_date: 2025-10-29 11:11:56 -0500
nebbiolo2Linux (Ubuntu 24.04.3 LTS) / x86_64  OK    OK    OK  UNNEEDED, same version is already published
kjohnson3macOS 13.7.7 Ventura / arm64  OK    OK    OK    OK  UNNEEDED, same version is already published
Package 16/32HostnameOS / ArchINSTALLBUILDCHECKBUILD BIN
MIRit 1.6.0  (landing page)
Jacopo Ronchi
git_last_commit: 2274523
git_last_commit_date: 2025-10-29 11:27:39 -0500
nebbiolo2Linux (Ubuntu 24.04.3 LTS) / x86_64  OK    OK    OK  UNNEEDED, same version is already published
kjohnson3macOS 13.7.7 Ventura / arm64  OK    OK    OK    OK  UNNEEDED, same version is already published
Package 17/32HostnameOS / ArchINSTALLBUILDCHECKBUILD BIN
MPAC 1.4.0  (landing page)
Peng Liu
git_last_commit: 778e22d
git_last_commit_date: 2025-10-29 11:30:37 -0500
nebbiolo2Linux (Ubuntu 24.04.3 LTS) / x86_64  OK    OK    OK  UNNEEDED, same version is already published
kjohnson3macOS 13.7.7 Ventura / arm64  OK    OK    OK    OK  UNNEEDED, same version is already published
Package 18/32HostnameOS / ArchINSTALLBUILDCHECKBUILD BIN
multiGSEA 1.20.0  (landing page)
Sebastian Canzler
git_last_commit: 89609e9
git_last_commit_date: 2025-10-29 11:00:17 -0500
nebbiolo2Linux (Ubuntu 24.04.3 LTS) / x86_64  OK    OK    OK  UNNEEDED, same version is already published
kjohnson3macOS 13.7.7 Ventura / arm64  OK    OK    OK    OK  UNNEEDED, same version is already published
Package 19/32HostnameOS / ArchINSTALLBUILDCHECKBUILD BIN
NanoTube 1.16.0  (landing page)
Caleb Class
git_last_commit: b78a412
git_last_commit_date: 2025-10-29 11:10:19 -0500
nebbiolo2Linux (Ubuntu 24.04.3 LTS) / x86_64  OK    OK    OK  UNNEEDED, same version is already published
kjohnson3macOS 13.7.7 Ventura / arm64  OK    OK    OK    OK  UNNEEDED, same version is already published
Package 20/32HostnameOS / ArchINSTALLBUILDCHECKBUILD BIN
nipalsMCIA 1.8.0  (landing page)
Maximilian Mattessich
git_last_commit: 5c9ad2e
git_last_commit_date: 2025-10-29 11:25:22 -0500
nebbiolo2Linux (Ubuntu 24.04.3 LTS) / x86_64  OK    OK    OK  UNNEEDED, same version is already published
kjohnson3macOS 13.7.7 Ventura / arm64  OK    OK    OK    OK  UNNEEDED, same version is already published
Package 21/32HostnameOS / ArchINSTALLBUILDCHECKBUILD BIN
omicsViewer 1.14.0  (landing page)
Chen Meng
git_last_commit: 5a2ceb1
git_last_commit_date: 2025-10-29 11:16:46 -0500
nebbiolo2Linux (Ubuntu 24.04.3 LTS) / x86_64  OK    OK    WARNINGS  UNNEEDED, same version is already published
kjohnson3macOS 13.7.7 Ventura / arm64  OK    OK    WARNINGS    OK  UNNEEDED, same version is already published
Package 22/32HostnameOS / ArchINSTALLBUILDCHECKBUILD BIN
pairedGSEA 1.10.0  (landing page)
Søren Helweg Dam
git_last_commit: 44e676a
git_last_commit_date: 2025-10-29 11:22:53 -0500
nebbiolo2Linux (Ubuntu 24.04.3 LTS) / x86_64  OK    OK    OK  UNNEEDED, same version is already published
kjohnson3macOS 13.7.7 Ventura / arm64  OK    OK    OK    OK  UNNEEDED, same version is already published
Package 23/32HostnameOS / ArchINSTALLBUILDCHECKBUILD BIN
pathlinkR 1.6.0  (landing page)
Travis Blimkie
git_last_commit: 4a3af75
git_last_commit_date: 2025-10-29 11:26:48 -0500
nebbiolo2Linux (Ubuntu 24.04.3 LTS) / x86_64  OK    OK    OK  UNNEEDED, same version is already published
kjohnson3macOS 13.7.7 Ventura / arm64  OK    OK    OK    OK  UNNEEDED, same version is already published
Package 24/32HostnameOS / ArchINSTALLBUILDCHECKBUILD BIN
phantasus 1.30.0  (landing page)
Alexey Sergushichev
git_last_commit: 7182df1
git_last_commit_date: 2025-10-29 10:44:01 -0500
nebbiolo2Linux (Ubuntu 24.04.3 LTS) / x86_64  OK    OK    OK  UNNEEDED, same version is already published
kjohnson3macOS 13.7.7 Ventura / arm64  OK    OK    OK    OK  UNNEEDED, same version is already published
Package 25/32HostnameOS / ArchINSTALLBUILDCHECKBUILD BIN
piano 2.26.0  (landing page)
Leif Varemo Wigge
git_last_commit: ce8c4de
git_last_commit_date: 2025-10-29 10:14:36 -0500
nebbiolo2Linux (Ubuntu 24.04.3 LTS) / x86_64  OK    OK    OK  UNNEEDED, same version is already published
kjohnson3macOS 13.7.7 Ventura / arm64  OK    OK    OK    OK  UNNEEDED, same version is already published
Package 26/32HostnameOS / ArchINSTALLBUILDCHECKBUILD BIN
POMA 1.20.0  (landing page)
Pol Castellano-Escuder
git_last_commit: 49dcbbe
git_last_commit_date: 2025-10-29 11:01:06 -0500
nebbiolo2Linux (Ubuntu 24.04.3 LTS) / x86_64  OK    OK    OK  UNNEEDED, same version is already published
kjohnson3macOS 13.7.7 Ventura / arm64  OK    OK    OK    OK  UNNEEDED, same version is already published
Package 27/32HostnameOS / ArchINSTALLBUILDCHECKBUILD BIN
PPInfer 1.36.0  (landing page)
Dongmin Jung
git_last_commit: d01a2dd
git_last_commit_date: 2025-10-29 10:38:26 -0500
nebbiolo2Linux (Ubuntu 24.04.3 LTS) / x86_64  OK    OK    OK  UNNEEDED, same version is already published
kjohnson3macOS 13.7.7 Ventura / arm64  OK    OK    OK    OK  UNNEEDED, same version is already published
Package 28/32HostnameOS / ArchINSTALLBUILDCHECKBUILD BIN
projectR 1.26.0  (landing page)
Genevieve Stein-O'Brien
git_last_commit: 8ac1c21
git_last_commit_date: 2025-10-29 10:50:52 -0500
nebbiolo2Linux (Ubuntu 24.04.3 LTS) / x86_64  OK    OK    OK  UNNEEDED, same version is already published
kjohnson3macOS 13.7.7 Ventura / arm64  OK    OK    OK    OK  UNNEEDED, same version is already published
Package 29/32HostnameOS / ArchINSTALLBUILDCHECKBUILD BIN
RegEnrich 1.20.0  (landing page)
Weiyang Tao
git_last_commit: 4833032
git_last_commit_date: 2025-10-29 11:00:04 -0500
nebbiolo2Linux (Ubuntu 24.04.3 LTS) / x86_64  OK    OK    OK  UNNEEDED, same version is already published
kjohnson3macOS 13.7.7 Ventura / arm64  OK    OK    OK    OK  UNNEEDED, same version is already published
Package 30/32HostnameOS / ArchINSTALLBUILDCHECKBUILD BIN
RegionalST 1.8.0  (landing page)
Ziyi Li
git_last_commit: d77f4d3
git_last_commit_date: 2025-10-29 11:24:31 -0500
nebbiolo2Linux (Ubuntu 24.04.3 LTS) / x86_64  OK    OK    OK  UNNEEDED, same version is already published
kjohnson3macOS 13.7.7 Ventura / arm64  OK    OK    OK    OK  UNNEEDED, same version is already published
Package 31/32HostnameOS / ArchINSTALLBUILDCHECKBUILD BIN
signatureSearch 1.24.0  (landing page)
Brendan Gongol
git_last_commit: ce6ab95
git_last_commit_date: 2025-10-29 10:55:44 -0500
nebbiolo2Linux (Ubuntu 24.04.3 LTS) / x86_64  OK    OK    OK  UNNEEDED, same version is already published
kjohnson3macOS 13.7.7 Ventura / arm64  OK    OK    OK    OK  UNNEEDED, same version is already published
Package 32/32HostnameOS / ArchINSTALLBUILDCHECKBUILD BIN
ViSEAGO 1.24.0  (landing page)
Aurelien Brionne
git_last_commit: 9020dee
git_last_commit_date: 2025-10-29 10:53:03 -0500
nebbiolo2Linux (Ubuntu 24.04.3 LTS) / x86_64  OK    OK    WARNINGS  UNNEEDED, same version is already published
kjohnson3macOS 13.7.7 Ventura / arm64  OK    OK    WARNINGS    OK  UNNEEDED, same version is already published