Package: fenr Version: 1.7.1 Command: /home/biocbuild/R/R/bin/R CMD INSTALL fenr StartedAt: 2025-10-23 20:26:47 -0000 (Thu, 23 Oct 2025) EndedAt: 2025-10-23 20:27:01 -0000 (Thu, 23 Oct 2025) EllapsedTime: 13.1 seconds RetCode: 0 Status: OK