Package: fenr Version: 1.7.1 Command: /home/biocbuild/R/R/bin/R CMD build --keep-empty-dirs --no-resave-data fenr StartedAt: 2025-10-20 23:45:57 -0000 (Mon, 20 Oct 2025) EndedAt: 2025-10-20 23:46:31 -0000 (Mon, 20 Oct 2025) EllapsedTime: 34.0 seconds RetCode: 0 Status: OK PackageFile: fenr_1.7.1.tar.gz PackageFileSize: 2.062 MiB