Package: fenr Version: 1.8.0 Command: /home/biocbuild/bbs-3.22-bioc/R/bin/R CMD INSTALL fenr StartedAt: 2025-11-06 15:08:43 -0500 (Thu, 06 Nov 2025) EndedAt: 2025-11-06 15:08:47 -0500 (Thu, 06 Nov 2025) EllapsedTime: 3.3 seconds RetCode: 0 Status: OK