Package: fedup Version: 1.16.0 Command: E:\biocbuild\bbs-3.21-bioc\R\bin\R.exe CMD check --no-multiarch --install=check:fedup.install-out.txt --library=E:\biocbuild\bbs-3.21-bioc\R\library --no-vignettes --timings fedup_1.16.0.tar.gz StartedAt: 2025-08-15 02:10:59 -0400 (Fri, 15 Aug 2025) EndedAt: 2025-08-15 02:15:47 -0400 (Fri, 15 Aug 2025) EllapsedTime: 287.4 seconds RetCode: 0 Status: OK CheckDir: fedup.Rcheck Warnings: 0