Package: fedup Version: 1.18.0 Command: /home/biocbuild/bbs-3.22-bioc/R/bin/R CMD INSTALL fedup StartedAt: 2025-11-06 15:12:17 -0500 (Thu, 06 Nov 2025) EndedAt: 2025-11-06 15:12:29 -0500 (Thu, 06 Nov 2025) EllapsedTime: 11.5 seconds RetCode: 0 Status: OK