Package: fedup Version: 1.18.0 Command: /home/biocbuild/bbs-3.22-bioc/R/bin/R CMD build --keep-empty-dirs --no-resave-data --md5 fedup StartedAt: 2025-11-06 17:38:13 -0500 (Thu, 06 Nov 2025) EndedAt: 2025-11-06 17:39:36 -0500 (Thu, 06 Nov 2025) EllapsedTime: 83.1 seconds RetCode: 0 Status: OK PackageFile: fedup_1.18.0.tar.gz PackageFileSize: 4.701 MiB