Package: famat Version: 1.19.0 Command: /home/biocbuild/R/R/bin/R CMD INSTALL famat StartedAt: 2025-10-23 21:14:04 -0000 (Thu, 23 Oct 2025) EndedAt: 2025-10-23 21:14:59 -0000 (Thu, 23 Oct 2025) EllapsedTime: 55.4 seconds RetCode: 0 Status: OK