Package: famat Version: 1.20.0 Command: /Library/Frameworks/R.framework/Resources/bin/R CMD INSTALL famat StartedAt: 2025-11-02 15:52:49 -0500 (Sun, 02 Nov 2025) EndedAt: 2025-11-02 15:53:54 -0500 (Sun, 02 Nov 2025) EllapsedTime: 65.2 seconds RetCode: 0 Status: OK