Package: famat Version: 1.19.0 Command: /Library/Frameworks/R.framework/Resources/bin/R CMD check --install=check:famat.install-out.txt --library=/Library/Frameworks/R.framework/Resources/library --no-vignettes --timings famat_1.19.0.tar.gz StartedAt: 2025-10-02 21:25:41 -0400 (Thu, 02 Oct 2025) EndedAt: 2025-10-02 21:31:10 -0400 (Thu, 02 Oct 2025) EllapsedTime: 328.3 seconds RetCode: 1 Status: ERROR CheckDir: famat.Rcheck Warnings: NA