Package: famat Version: 1.19.0 Command: rm -rf famat.buildbin-libdir && mkdir famat.buildbin-libdir && /Users/biocbuild/BBS/utils/build-universal.sh famat_1.19.0.tar.gz /Library/Frameworks/R.framework/Resources/bin/R famat.buildbin-libdir StartedAt: 2025-10-03 01:57:08 -0400 (Fri, 03 Oct 2025) EndedAt: 2025-10-03 01:58:18 -0400 (Fri, 03 Oct 2025) EllapsedTime: 70.1 seconds RetCode: 0 Status: OK PackageFile: famat_1.19.0.tgz PackageFileSize: 3.642 MiB