Package: faers Version: 1.6.0 Command: /home/biocbuild/bbs-3.22-bioc/R/bin/R CMD INSTALL faers StartedAt: 2025-11-06 15:07:37 -0500 (Thu, 06 Nov 2025) EndedAt: 2025-11-06 15:08:05 -0500 (Thu, 06 Nov 2025) EllapsedTime: 28.7 seconds RetCode: 0 Status: OK