Package: faers Version: 1.6.0 Command: /home/biocbuild/bbs-3.22-bioc/R/bin/R CMD build --keep-empty-dirs --no-resave-data --md5 faers StartedAt: 2025-11-06 17:36:52 -0500 (Thu, 06 Nov 2025) EndedAt: 2025-11-06 17:37:26 -0500 (Thu, 06 Nov 2025) EllapsedTime: 34.0 seconds RetCode: 0 Status: OK PackageFile: faers_1.6.0.tar.gz PackageFileSize: 2.894 MiB