Package: fCI Version: 1.38.0 Command: /Library/Frameworks/R.framework/Resources/bin/R CMD INSTALL fCI StartedAt: 2025-10-13 15:19:32 -0400 (Mon, 13 Oct 2025) EndedAt: 2025-10-13 15:20:03 -0400 (Mon, 13 Oct 2025) EllapsedTime: 31.2 seconds RetCode: 0 Status: OK