Package: fCI Version: 1.38.0 Command: /Library/Frameworks/R.framework/Resources/bin/R CMD build --keep-empty-dirs --no-resave-data fCI StartedAt: 2025-10-14 00:17:46 -0400 (Tue, 14 Oct 2025) EndedAt: 2025-10-14 00:18:28 -0400 (Tue, 14 Oct 2025) EllapsedTime: 42.2 seconds RetCode: 0 Status: OK PackageFile: fCI_1.38.0.tar.gz PackageFileSize: 1.321 MiB