Package: evaluomeR Version: 1.26.0 Command: /Library/Frameworks/R.framework/Resources/bin/R CMD check --install=check:evaluomeR.install-out.txt --library=/Library/Frameworks/R.framework/Resources/library --no-vignettes --timings evaluomeR_1.26.0.tar.gz StartedAt: 2025-11-06 19:43:11 -0500 (Thu, 06 Nov 2025) EndedAt: 2025-11-06 19:45:06 -0500 (Thu, 06 Nov 2025) EllapsedTime: 114.3 seconds RetCode: 0 Status: WARNINGS CheckDir: evaluomeR.Rcheck Warnings: 3