Package: evaluomeR Version: 1.26.0 Command: rm -rf evaluomeR.buildbin-libdir && mkdir evaluomeR.buildbin-libdir && /Users/biocbuild/BBS/utils/build-universal.sh evaluomeR_1.26.0.tar.gz /Library/Frameworks/R.framework/Resources/bin/R evaluomeR.buildbin-libdir StartedAt: 2025-11-06 23:04:32 -0500 (Thu, 06 Nov 2025) EndedAt: 2025-11-06 23:04:46 -0500 (Thu, 06 Nov 2025) EllapsedTime: 14.3 seconds RetCode: 0 Status: OK PackageFile: evaluomeR_1.26.0.tgz PackageFileSize: 779.9 KiB