Package: eudysbiome Version: 1.40.0 Command: /Library/Frameworks/R.framework/Resources/bin/R CMD check --install=check:eudysbiome.install-out.txt --library=/Library/Frameworks/R.framework/Resources/library --no-vignettes --timings eudysbiome_1.40.0.tar.gz StartedAt: 2025-11-03 21:06:59 -0500 (Mon, 03 Nov 2025) EndedAt: 2025-11-03 21:09:20 -0500 (Mon, 03 Nov 2025) EllapsedTime: 141.5 seconds RetCode: 0 Status: OK CheckDir: eudysbiome.Rcheck Warnings: 0