Package: escheR Version: 1.8.0 Command: /Library/Frameworks/R.framework/Resources/bin/R CMD build --keep-empty-dirs --no-resave-data escheR StartedAt: 2025-10-13 18:57:55 -0400 (Mon, 13 Oct 2025) EndedAt: 2025-10-13 19:03:22 -0400 (Mon, 13 Oct 2025) EllapsedTime: 326.1 seconds RetCode: 0 Status: OK PackageFile: escheR_1.8.0.tar.gz PackageFileSize: 3.545 MiB