Package: escape Version: 2.4.0 Command: E:\biocbuild\bbs-3.21-bioc\R\bin\R.exe CMD INSTALL escape StartedAt: 2025-08-14 16:28:58 -0400 (Thu, 14 Aug 2025) EndedAt: 2025-08-14 16:29:51 -0400 (Thu, 14 Aug 2025) EllapsedTime: 52.9 seconds RetCode: 0 Status: OK