Package: escape Version: 2.4.0 Command: /home/biocbuild/bbs-3.21-bioc/R/bin/R CMD INSTALL escape StartedAt: 2025-10-15 15:54:42 -0400 (Wed, 15 Oct 2025) EndedAt: 2025-10-15 15:55:27 -0400 (Wed, 15 Oct 2025) EllapsedTime: 44.8 seconds RetCode: 0 Status: OK